BEGIN:VCALENDAR
VERSION:2.0
PRODID:-//wp-events-plugin.com//7.2.3.1//EN
BEGIN:VEVENT
UID:15@leib-und-seel.ch
DTSTART;TZID=Europe/Zurich:20260323T193000
DTEND;TZID=Europe/Zurich:20260323T211500
DTSTAMP:20250826T130407Z
URL:https://leib-und-seel.ch/veranstaltungen/tanzabend-bibel-getanzt-14/
SUMMARY:Tanzabend - Bibel getanzt
DESCRIPTION:Mitbringen\nFreude an Tanz und Bewegung (auch TanzanfängerInne
 n)\nOffenheit für Erfahrungen\nBequeme Kleidung und leichte Schuhe\n\nKos
 ten\nCHF 15.- pro Abend.\nDie Abende können auch einzeln besucht werden.
ATTACH;FMTTYPE=image/jpeg:https://leib-und-seel.ch/wp-content/uploads/2025
 /08/BibelGetanzt_FlyerCutout_Kirchberg26-1.webp
CATEGORIES:Tanzabend
LOCATION:Kirchgemeindehaus Kirchberg\, Froberg 2\, 3422 Kirchberg\, Schweiz
X-APPLE-STRUCTURED-LOCATION;VALUE=URI;X-ADDRESS=Froberg 2\, 3422 Kirchberg\
 , Schweiz;X-APPLE-RADIUS=100;X-TITLE=Kirchgemeindehaus Kirchberg:geo:0,0
END:VEVENT
BEGIN:VTIMEZONE
TZID:Europe/Zurich
X-LIC-LOCATION:Europe/Zurich
BEGIN:STANDARD
DTSTART:20251026T020000
TZOFFSETFROM:+0200
TZOFFSETTO:+0100
TZNAME:CET
END:STANDARD
END:VTIMEZONE
END:VCALENDAR